BEGIN:VCALENDAR
VERSION:2.0
PRODID:-//Mountain Grove - ECPv6.6.4.2//NONSGML v1.0//EN
CALSCALE:GREGORIAN
METHOD:PUBLISH
X-ORIGINAL-URL:https://www.mtgrove.com
X-WR-CALDESC:Events for Mountain Grove
REFRESH-INTERVAL;VALUE=DURATION:PT1H
X-Robots-Tag:noindex
X-PUBLISHED-TTL:PT1H
BEGIN:VTIMEZONE
TZID:America/Los_Angeles
BEGIN:DAYLIGHT
TZOFFSETFROM:-0800
TZOFFSETTO:-0700
TZNAME:PDT
DTSTART:20250309T100000
END:DAYLIGHT
BEGIN:STANDARD
TZOFFSETFROM:-0700
TZOFFSETTO:-0800
TZNAME:PST
DTSTART:20251102T090000
END:STANDARD
END:VTIMEZONE
BEGIN:VEVENT
DTSTART;TZID=America/Los_Angeles:20250412T110000
DTEND;TZID=America/Los_Angeles:20250412T140000
DTSTAMP:20260422T044006
CREATED:20250123T234933Z
LAST-MODIFIED:20250210T213243Z
UID:1824-1744455600-1744466400@www.mtgrove.com
SUMMARY:Spring Into Easter
DESCRIPTION:Hop into the fun at our Easter Event on Saturday\, April 12\, 2025\, at the Mountain Grove Lawn and Harkins! Join us for family-friendly activities from 11 AM to 2 PM.
URL:https://www.mtgrove.com/event/spring-into-easter/
LOCATION:Mountain Grove Food Court\, 27511 San Bernardino Ave\, Redlands\, CA\, 92374\, United States
ATTACH;FMTTYPE=image/jpeg:https://www.mtgrove.com/wp-content/uploads/2025/01/SpringintoEaster2_2025_Banner.jpg
END:VEVENT
BEGIN:VEVENT
DTSTART;TZID=America/Los_Angeles:20250423T100000
DTEND;TZID=America/Los_Angeles:20250423T113000
DTSTAMP:20260422T044006
CREATED:20250122T003227Z
LAST-MODIFIED:20250418T201131Z
UID:1784-1745402400-1745407800@www.mtgrove.com
SUMMARY:Kids and Krafts
DESCRIPTION:KID AND KRAFTS – Every 4th Wednesday in March\, April\, and May\nJoin us on the Lawn/Table area – bring a blanket and lawn chair* \nDuring this free family-friendly Michaels Arts and Crafts and Mountain Grove will supply a free craft for the littles to get artistic. \nMarch 26 -10:00 – 11:30 am\nApril 23 – 10:00 – 11:30 am\nMay 28- 10:00 – 11:30 am
URL:https://www.mtgrove.com/event/kids-and-krafts/
LOCATION:Mountain Grove Food Court\, 27511 San Bernardino Ave\, Redlands\, CA\, 92374\, United States
ATTACH;FMTTYPE=image/jpeg:https://www.mtgrove.com/wp-content/uploads/2025/01/Kids_And_Krafts_2025_Banner.jpg
END:VEVENT
BEGIN:VEVENT
DTSTART;TZID=America/Los_Angeles:20250429T190000
DTEND;TZID=America/Los_Angeles:20250429T210000
DTSTAMP:20260422T044006
CREATED:20250407T235856Z
LAST-MODIFIED:20260323T223514Z
UID:1867-1745953200-1745960400@www.mtgrove.com
SUMMARY:Summer Music
DESCRIPTION:Experience the sound of Ashley Felton at Citrus Plaza from 7 PM -9 PM. The perfect mix of local talent and laid-back summer nights.
URL:https://www.mtgrove.com/event/summer-music-68/
LOCATION:Citrus Plaza Food Court\, 27510 W Lugonia Ave\, Redlands\, CA\, 92374\, United States
ATTACH;FMTTYPE=image/png:https://www.mtgrove.com/wp-content/uploads/2025/04/u6v3bgou86dy7htk13e4qzxupvj0f66k-y3hLwZ.tmp_.png
END:VEVENT
BEGIN:VEVENT
DTSTART;TZID=America/Los_Angeles:20250430T190000
DTEND;TZID=America/Los_Angeles:20250430T210000
DTSTAMP:20260422T044006
CREATED:20250407T235859Z
LAST-MODIFIED:20260323T223515Z
UID:1868-1746039600-1746046800@www.mtgrove.com
SUMMARY:Summer Music
DESCRIPTION:Catch a soulful set from Shea Givens at Mountain Grove Food Court from 7 PM -9 PM. Let the music carry you into the evening!
URL:https://www.mtgrove.com/event/summer-music-69/
LOCATION:Mountain Grove Food Court\, 27511 San Bernardino Ave\, Redlands\, CA\, 92374\, United States
ATTACH;FMTTYPE=image/png:https://www.mtgrove.com/wp-content/uploads/2025/04/dq1ix4qfl1j90m0pc2weaixxureyq48b-aUHJ6k.tmp_.png
END:VEVENT
END:VCALENDAR